BEGIN:VCALENDAR
VERSION:2.0
PRODID:-//Squarespace Inc/Squarespace 6//v6//EN
BEGIN:VEVENT
UID:5d06ef43e53ed50001245189@squarespace.com
DTSTAMP:20190617T013940Z
DTSTART:20190802T220000Z
DTEND:20190803T000000Z
SUMMARY:Saturday Family Day
END:VEVENT
END:VCALENDAR
