BEGIN:VCALENDAR
VERSION:2.0
PRODID:-//Squarespace Inc/Squarespace 6//v6//EN
BEGIN:VEVENT
UID:5cec5586ec212dc60a583710@squarespace.com
DTSTAMP:20190617T013151Z
DTSTART:20190726T220000Z
DTEND:20190727T000000Z
SUMMARY:Saturday Family Day
END:VEVENT
END:VCALENDAR
